BEGIN:VCALENDAR
VERSION:2.0
PRODID:-//demosphere.net//NONSGML kigkonsult.se iCalcreator 2.22.1//
METHOD:REQUEST
X-WR-TIMEZONE:Europe/Athens
BEGIN:VEVENT
UID:https://thessaloniki.kinimatorama.net/event/51798
DTSTAMP:20150506T073000Z
DESCRIPTION:περισσότερες πληροφορίες: https://thessaloniki.kinimatorama.net
 /event/51798 
DTSTART:20150506T073000Z
DTEND:20150506T083000Z
GEO:+40.639326;+22.932823
LOCATION:Θεσσαλονίκη\, \nΔικαστήρια Θεσσαλονίκης
SUMMARY:Δικαστήριο Μποτζατζή-Νικολάου-Συριανού-Χάλαζα
URL:https://thessaloniki.kinimatorama.net/event/51798
END:VEVENT
END:VCALENDAR
