BEGIN:VCALENDAR
VERSION:2.0
PRODID:-//demosphere.net//NONSGML kigkonsult.se iCalcreator 2.22.1//
METHOD:REQUEST
X-WR-TIMEZONE:Europe/Athens
BEGIN:VEVENT
UID:https://thessaloniki.kinimatorama.net/event/51935
DTSTAMP:20150511T060000Z
DESCRIPTION:περισσότερες πληροφορίες: https://thessaloniki.kinimatorama.net
 /event/51935 
DTSTART:20150511T060000Z
DTEND:20150511T070000Z
GEO:+37.995376;+23.743086
LOCATION:Αθήνα\, \nΔικαστήρια Ευελπίδων
SUMMARY:Να αθωωθούν αυτοί που δικάζονται για τα γεγονότα της 6ης Δεκέμβρη τ
 ου 2009
URL:https://thessaloniki.kinimatorama.net/event/51935
END:VEVENT
END:VCALENDAR
