BEGIN:VCALENDAR
VERSION:2.0
PRODID:-//demosphere.net//NONSGML kigkonsult.se iCalcreator 2.22.1//
METHOD:REQUEST
X-WR-TIMEZONE:Europe/Athens
BEGIN:VEVENT
UID:https://thessaloniki.kinimatorama.net/event/51940
DTSTAMP:20150508T190000Z
DESCRIPTION:περισσότερες πληροφορίες: https://thessaloniki.kinimatorama.net
 /event/51940 
DTSTART:20150508T190000Z
DTEND:20150508T200000Z
GEO:+35.341459;+25.132416
LOCATION:Ηράκλειο\, \nΚατάληψη Ευαγγελισμού \nΘεοτοκοπούλου 18
SUMMARY:(αναβάλλεται) Καφενείο οικονομικής ενίσχυσης δράσεων
URL:https://thessaloniki.kinimatorama.net/event/51940
END:VEVENT
END:VCALENDAR
