BEGIN:VCALENDAR
VERSION:2.0
PRODID:-//demosphere.net//NONSGML kigkonsult.se iCalcreator 2.22.1//
METHOD:REQUEST
X-WR-TIMEZONE:Europe/Athens
BEGIN:VEVENT
UID:https://thessaloniki.kinimatorama.net/event/52767
DTSTAMP:20150529T180000Z
DESCRIPTION:περισσότερες πληροφορίες: https://thessaloniki.kinimatorama.net
 /event/52767 
DTSTART:20150529T180000Z
DTEND:20150529T190000Z
GEO:+39.67164;+20.852984
LOCATION:Ιωάννινα\, \nκατάληψη Αντιβίωση \nΠαπανδρέου 2 & Μπελογιάννη \n(πα
 λιό νοσοκομείο Χατζηκώστα)
SUMMARY:Προβολή ντοκιμαντέρ: The Act of Killing
URL:https://thessaloniki.kinimatorama.net/event/52767
END:VEVENT
END:VCALENDAR
