BEGIN:VCALENDAR
VERSION:2.0
PRODID:-//demosphere.net//NONSGML kigkonsult.se iCalcreator 2.22.1//
METHOD:REQUEST
X-WR-TIMEZONE:Europe/Athens
BEGIN:VEVENT
UID:https://thessaloniki.kinimatorama.net/event/52793
DTSTAMP:20150607T050000Z
DESCRIPTION:περισσότερες πληροφορίες: https://thessaloniki.kinimatorama.net
 /event/52793 
DTSTART:20150607T050000Z
DTEND:20150607T060000Z
GEO:+39.555039;+21.767766
LOCATION:Τρίκαλα\, \nΠλατεία Ρήγα Φεραίου
SUMMARY:Διήμερο οδοιπορικό στα βήματα του Άρη Βελουχιώτη
URL:https://thessaloniki.kinimatorama.net/event/52793
END:VEVENT
END:VCALENDAR
