BEGIN:VCALENDAR
VERSION:2.0
PRODID:-//demosphere.net//NONSGML kigkonsult.se iCalcreator 2.22.1//
METHOD:REQUEST
X-WR-TIMEZONE:Europe/Athens
BEGIN:VEVENT
UID:https://thessaloniki.kinimatorama.net/event/53673
DTSTAMP:20150704T170000Z
DESCRIPTION:περισσότερες πληροφορίες: https://thessaloniki.kinimatorama.net
 /event/53673 
DTSTART:20150704T170000Z
DTEND:20150704T180000Z
GEO:+39.668568;+20.859894
LOCATION:Ιωάννινα\, \nΘεατράκι σκάλας
SUMMARY:Ντάλα Ήλιος 9
URL:https://thessaloniki.kinimatorama.net/event/53673
END:VEVENT
END:VCALENDAR
