BEGIN:VCALENDAR
VERSION:2.0
PRODID:-//demosphere.net//NONSGML kigkonsult.se iCalcreator 2.22.1//
METHOD:REQUEST
X-WR-TIMEZONE:Europe/Athens
BEGIN:VEVENT
UID:https://thessaloniki.kinimatorama.net/event/54241
DTSTAMP:20150728T180000Z
DESCRIPTION:περισσότερες πληροφορίες: https://thessaloniki.kinimatorama.net
 /event/54241 
DTSTART:20150728T180000Z
DTEND:20150728T190000Z
GEO:+39.669989;+20.849001
LOCATION:Ιωάννινα\, \nΆλσος οδού Βαλαωρίτου \n(πλατεία Ζαλόγγου)
SUMMARY:Προβολή: Η ζωή είναι ωραία
URL:https://thessaloniki.kinimatorama.net/event/54241
END:VEVENT
END:VCALENDAR
