BEGIN:VCALENDAR
VERSION:2.0
PRODID:-//demosphere.net//NONSGML kigkonsult.se iCalcreator 2.22.1//
METHOD:REQUEST
X-WR-TIMEZONE:Europe/Athens
BEGIN:VEVENT
UID:https://thessaloniki.kinimatorama.net/event/54285
DTSTAMP:20150714T140000Z
DESCRIPTION:περισσότερες πληροφορίες: https://thessaloniki.kinimatorama.net
 /event/54285 
DTSTART:20150714T140000Z
DTEND:20150714T150000Z
GEO:+35.341459;+25.132416
LOCATION:Ηράκλειο\, \nΚατάληψη Ευαγγελισμού \nΘεοτοκοπούλου 18
SUMMARY:Μοτοπαρέμβαση ενάντια στις αυταπάτες & τους σωτήρες
URL:https://thessaloniki.kinimatorama.net/event/54285
END:VEVENT
END:VCALENDAR
