BEGIN:VCALENDAR
VERSION:2.0
PRODID:-//demosphere.net//NONSGML kigkonsult.se iCalcreator 2.22.1//
METHOD:REQUEST
X-WR-TIMEZONE:Europe/Athens
BEGIN:VEVENT
UID:https://thessaloniki.kinimatorama.net/event/54378
DTSTAMP:20150717T163000Z
DESCRIPTION:περισσότερες πληροφορίες: https://thessaloniki.kinimatorama.net
 /event/54378 
DTSTART:20150717T163000Z
DTEND:20150717T173000Z
GEO:+37.987555;+23.735275
LOCATION:Αθήνα\, \nΚηπάκι της Τσαμαδού \nΤσαμαδού 12 \nΕξάρχεια
SUMMARY:Ανοιχτή σύσκεψη
URL:https://thessaloniki.kinimatorama.net/event/54378
END:VEVENT
END:VCALENDAR
