BEGIN:VCALENDAR
VERSION:2.0
PRODID:-//demosphere.net//NONSGML kigkonsult.se iCalcreator 2.22.1//
METHOD:REQUEST
X-WR-TIMEZONE:Europe/Athens
BEGIN:VEVENT
UID:https://thessaloniki.kinimatorama.net/event/55482
DTSTAMP:20150914T170000Z
DESCRIPTION:περισσότερες πληροφορίες: https://thessaloniki.kinimatorama.net
 /event/55482 
DTSTART:20150914T170000Z
DTEND:20150914T180000Z
GEO:+35.341459;+25.132416
LOCATION:Ηράκλειο\, \nΚατάληψη Ευαγγελισμού \nΘεοτοκοπούλου 18
SUMMARY:Ανοιχτή συνέλευση αλληλεγγύης στην Εύη Στατήρη
URL:https://thessaloniki.kinimatorama.net/event/55482
END:VEVENT
END:VCALENDAR
