BEGIN:VCALENDAR
VERSION:2.0
PRODID:-//demosphere.net//NONSGML kigkonsult.se iCalcreator 2.22.1//
METHOD:REQUEST
X-WR-TIMEZONE:Europe/Athens
BEGIN:VEVENT
UID:https://thessaloniki.kinimatorama.net/event/5560
DTSTAMP:20101015T170000Z
DESCRIPTION:περισσότερες πληροφορίες: https://thessaloniki.kinimatorama.net
 /event/5560 
DTSTART:20101015T170000Z
DTEND:20101015T180000Z
GEO:+38.00095;+23.737762
LOCATION:Αθήνα\, \nΔημοτική Αγορά Κυψέλης \nΦωκίωνος Νέγρη 42
SUMMARY:Spaghetti incident: βραδιά μακαρονοφαγίας
URL:https://thessaloniki.kinimatorama.net/event/5560
END:VEVENT
END:VCALENDAR
