BEGIN:VCALENDAR
VERSION:2.0
PRODID:-//demosphere.net//NONSGML kigkonsult.se iCalcreator 2.22.1//
METHOD:REQUEST
X-WR-TIMEZONE:Europe/Athens
BEGIN:VEVENT
UID:https://thessaloniki.kinimatorama.net/event/56482
DTSTAMP:20151011T150000Z
DESCRIPTION:περισσότερες πληροφορίες: https://thessaloniki.kinimatorama.net
 /event/56482 
DTSTART:20151011T150000Z
DTEND:20151011T160000Z
GEO:+37.994079;+23.732083
LOCATION:Αθήνα\, \nΑΣΟΕΕ \nΠατησίων 76 (28ης Οκτωβρίου) \n(πλησίον σταθμού 
 ΗΣΑΠ Βικτώρια)
SUMMARY:Εκδήλωση-συζήτηση: Τι έχει να πει ο αναρχισμός σήμερα\;
URL:https://thessaloniki.kinimatorama.net/event/56482
END:VEVENT
END:VCALENDAR
