BEGIN:VCALENDAR
VERSION:2.0
PRODID:-//demosphere.net//NONSGML kigkonsult.se iCalcreator 2.22.1//
METHOD:REQUEST
X-WR-TIMEZONE:Europe/Athens
BEGIN:VEVENT
UID:https://thessaloniki.kinimatorama.net/event/56515
DTSTAMP:20151005T150000Z
DESCRIPTION:περισσότερες πληροφορίες: https://thessaloniki.kinimatorama.net
 /event/56515 
DTSTART:20151005T150000Z
DTEND:20151005T160000Z
GEO:+37.987555;+23.735275
LOCATION:Αθήνα\, \nΚηπάκι της Τσαμαδού \nΤσαμαδού 12 \nΕξάρχεια
SUMMARY:Συνέλευση Αντιφασιστικού Συντονισμού Αθήνας-Πειραιά
URL:https://thessaloniki.kinimatorama.net/event/56515
END:VEVENT
END:VCALENDAR
