BEGIN:VCALENDAR
VERSION:2.0
PRODID:-//demosphere.net//NONSGML kigkonsult.se iCalcreator 2.22.1//
METHOD:REQUEST
X-WR-TIMEZONE:Europe/Athens
BEGIN:VEVENT
UID:https://thessaloniki.kinimatorama.net/event/56725
DTSTAMP:20151009T063000Z
DESCRIPTION:περισσότερες πληροφορίες: https://thessaloniki.kinimatorama.net
 /event/56725 
DTSTART:20151009T063000Z
DTEND:20151009T073000Z
GEO:+37.995376;+23.743086
LOCATION:Αθήνα\, \nΔικαστήρια Ευελπίδων
SUMMARY:Νίκη στον αγώνα του εργαζόμενου της AutoTech
URL:https://thessaloniki.kinimatorama.net/event/56725
END:VEVENT
END:VCALENDAR
