BEGIN:VCALENDAR
VERSION:2.0
PRODID:-//demosphere.net//NONSGML kigkonsult.se iCalcreator 2.22.1//
METHOD:REQUEST
X-WR-TIMEZONE:Europe/Athens
BEGIN:VEVENT
UID:https://thessaloniki.kinimatorama.net/event/5707
DTSTAMP:20101023T150000Z
DESCRIPTION:περισσότερες πληροφορίες: https://thessaloniki.kinimatorama.net
 /event/5707 
DTSTART:20101023T150000Z
DTEND:20101023T160000Z
GEO:+38.00095;+23.737762
LOCATION:Αθήνα\, \nΔημοτική Αγορά Κυψέλης \nΦωκίωνος Νέγρη 42
SUMMARY:Το ΔΝΤ και οι επιπτώσεις στα κεκτημένα δικαιώματα των εργαζομένων &
  πάρτυ
URL:https://thessaloniki.kinimatorama.net/event/5707
END:VEVENT
END:VCALENDAR
