BEGIN:VCALENDAR
VERSION:2.0
PRODID:-//demosphere.net//NONSGML kigkonsult.se iCalcreator 2.22.1//
METHOD:REQUEST
X-WR-TIMEZONE:Europe/Athens
BEGIN:VEVENT
UID:https://thessaloniki.kinimatorama.net/event/57143
DTSTAMP:20151027T070000Z
DESCRIPTION:περισσότερες πληροφορίες: https://thessaloniki.kinimatorama.net
 /event/57143 
DTSTART:20151027T070000Z
DTEND:20151027T080000Z
GEO:+40.639326;+22.932823
LOCATION:Θεσσαλονίκη\, \nΔικαστήρια Θεσσαλονίκης
SUMMARY:Άμεση αθώωση - Καμία δίωξη  στους Τούρκους και Κούρδους αγωνιστές
URL:https://thessaloniki.kinimatorama.net/event/57143
END:VEVENT
END:VCALENDAR
