BEGIN:VCALENDAR
VERSION:2.0
PRODID:-//demosphere.net//NONSGML kigkonsult.se iCalcreator 2.22.1//
METHOD:REQUEST
X-WR-TIMEZONE:Europe/Athens
BEGIN:VEVENT
UID:https://thessaloniki.kinimatorama.net/event/57794
DTSTAMP:20151104T183000Z
DESCRIPTION:περισσότερες πληροφορίες: https://thessaloniki.kinimatorama.net
 /event/57794 
DTSTART:20151104T183000Z
DTEND:20151104T193000Z
GEO:+37.97569;+23.772792
LOCATION:Ζωγράφου\, \nΠάρκο Ειρήνης \nείσοδος από οδό Γ.Ζωγράφου 13 \nΛεωφο
 ρεία: 608\,235 \nστάση: 6η Ζωγράφου
SUMMARY:Προβολή 'ο μπαμπάς λείπει σε ταξίδι για δουλείες'
URL:https://thessaloniki.kinimatorama.net/event/57794
END:VEVENT
END:VCALENDAR
