BEGIN:VCALENDAR
VERSION:2.0
PRODID:-//demosphere.net//NONSGML kigkonsult.se iCalcreator 2.22.1//
METHOD:REQUEST
X-WR-TIMEZONE:Europe/Athens
BEGIN:VEVENT
UID:https://thessaloniki.kinimatorama.net/event/58564
DTSTAMP:20151119T160000Z
DESCRIPTION:περισσότερες πληροφορίες: https://thessaloniki.kinimatorama.net
 /event/58564 
DTSTART:20151119T160000Z
DTEND:20151119T170000Z
GEO:+39.555039;+21.767766
LOCATION:Τρίκαλα\, \nΠλατεία Ρήγα Φεραίου
SUMMARY:Μικροφωνική παρέμβαση αλληλεγγύης στον ολικό αρνητή στράτευσης Χ.Ρί
 τσιο
URL:https://thessaloniki.kinimatorama.net/event/58564
END:VEVENT
END:VCALENDAR
