BEGIN:VCALENDAR
VERSION:2.0
PRODID:-//demosphere.net//NONSGML kigkonsult.se iCalcreator 2.22.1//
METHOD:REQUEST
X-WR-TIMEZONE:Europe/Athens
BEGIN:VEVENT
UID:https://thessaloniki.kinimatorama.net/event/59571
DTSTAMP:20151202T180000Z
DESCRIPTION:περισσότερες πληροφορίες: https://thessaloniki.kinimatorama.net
 /event/59571 
DTSTART:20151202T180000Z
DTEND:20151202T190000Z
GEO:+35.341459;+25.132416
LOCATION:Ηράκλειο\, \nΚατάληψη Ευαγγελισμού \nΘεοτοκοπούλου 18
SUMMARY:Συνέλευση Αναρχικών/Αντιεξουσιαστών Ηρακλείου
URL:https://thessaloniki.kinimatorama.net/event/59571
END:VEVENT
END:VCALENDAR
