BEGIN:VCALENDAR
VERSION:2.0
PRODID:-//demosphere.net//NONSGML kigkonsult.se iCalcreator 2.22.1//
METHOD:REQUEST
X-WR-TIMEZONE:Europe/Athens
BEGIN:VEVENT
UID:https://thessaloniki.kinimatorama.net/event/59998
DTSTAMP:20151210T090000Z
DESCRIPTION:περισσότερες πληροφορίες: https://thessaloniki.kinimatorama.net
 /event/59998 
DTSTART:20151210T090000Z
DTEND:20151210T100000Z
GEO:+40.639326;+22.932823
LOCATION:Θεσσαλονίκη\, \nΔικαστήρια Θεσσαλονίκης
SUMMARY:Ακυρώνουμε τους πλειστηριασμούς της ΒΙΟΜΕ!
URL:https://thessaloniki.kinimatorama.net/event/59998
END:VEVENT
END:VCALENDAR
