BEGIN:VCALENDAR
VERSION:2.0
PRODID:-//demosphere.net//NONSGML kigkonsult.se iCalcreator 2.22.1//
METHOD:REQUEST
X-WR-TIMEZONE:Europe/Athens
BEGIN:VEVENT
UID:https://thessaloniki.kinimatorama.net/event/6005
DTSTAMP:20101110T183000Z
DESCRIPTION:περισσότερες πληροφορίες: https://thessaloniki.kinimatorama.net
 /event/6005 
DTSTART:20101110T183000Z
DTEND:20101110T193000Z
GEO:+35.515361;+24.021515
LOCATION:Χανιά\, \nΚοινωνικό Στέκι - Στέκι Μεταναστών Χανίων \nΧατζήΜιχάλη 
 Νταλιάνη 5
SUMMARY:Εκδήλωση για το ελεύθερο λογισμικό
URL:https://thessaloniki.kinimatorama.net/event/6005
END:VEVENT
END:VCALENDAR
