BEGIN:VCALENDAR
VERSION:2.0
PRODID:-//demosphere.net//NONSGML kigkonsult.se iCalcreator 2.22.1//
METHOD:REQUEST
X-WR-TIMEZONE:Europe/Athens
BEGIN:VEVENT
UID:https://thessaloniki.kinimatorama.net/event/60388
DTSTAMP:20151217T070000Z
DESCRIPTION:περισσότερες πληροφορίες: https://thessaloniki.kinimatorama.net
 /event/60388 
DTSTART:20151217T070000Z
DTEND:20151217T080000Z
GEO:+40.639326;+22.932823
LOCATION:Θεσσαλονίκη\, \nΔικαστήρια Θεσσαλονίκης
SUMMARY:Καμία δίωξη στους εργαζόμενους της ΕΛΒΟ
URL:https://thessaloniki.kinimatorama.net/event/60388
END:VEVENT
END:VCALENDAR
