BEGIN:VCALENDAR
VERSION:2.0
PRODID:-//demosphere.net//NONSGML kigkonsult.se iCalcreator 2.22.1//
METHOD:REQUEST
X-WR-TIMEZONE:Europe/Athens
BEGIN:VEVENT
UID:https://thessaloniki.kinimatorama.net/event/60578
DTSTAMP:20151219T090000Z
DESCRIPTION:περισσότερες πληροφορίες: https://thessaloniki.kinimatorama.net
 /event/60578 
DTSTART:20151219T090000Z
DTEND:20151219T100000Z
GEO:+40.639326;+22.932823
LOCATION:Θεσσαλονίκη\, \nΔικαστήρια Θεσσαλονίκης
SUMMARY:Μαζική παράσταση για τους 2 χθεσινούς συλληφθέντες της ΕΑΑΚ
URL:https://thessaloniki.kinimatorama.net/event/60578
END:VEVENT
END:VCALENDAR
