BEGIN:VCALENDAR
VERSION:2.0
PRODID:-//demosphere.net//NONSGML kigkonsult.se iCalcreator 2.22.1//
METHOD:REQUEST
X-WR-TIMEZONE:Europe/Athens
BEGIN:VEVENT
UID:https://thessaloniki.kinimatorama.net/event/60631
DTSTAMP:20151222T073000Z
DESCRIPTION:περισσότερες πληροφορίες: https://thessaloniki.kinimatorama.net
 /event/60631 
DTSTART:20151222T073000Z
DTEND:20151222T083000Z
GEO:+37.995376;+23.743086
LOCATION:Αθήνα\, \nΔικαστήρια Ευελπίδων
SUMMARY:Δίκη του Δικτύου κατά της Ομάδας Δέλτα
URL:https://thessaloniki.kinimatorama.net/event/60631
END:VEVENT
END:VCALENDAR
