BEGIN:VCALENDAR
VERSION:2.0
PRODID:-//demosphere.net//NONSGML kigkonsult.se iCalcreator 2.22.1//
METHOD:REQUEST
X-WR-TIMEZONE:Europe/Athens
BEGIN:VEVENT
UID:https://thessaloniki.kinimatorama.net/event/61191
DTSTAMP:20160114T170000Z
DESCRIPTION:περισσότερες πληροφορίες: https://thessaloniki.kinimatorama.net
 /event/61191 
DTSTART:20160114T170000Z
DTEND:20160114T180000Z
GEO:+37.994079;+23.732083
LOCATION:Αθήνα\, \nΑΣΟΕΕ \nΠατησίων 76 (28ης Οκτωβρίου) \n(πλησίον σταθμού 
 ΗΣΑΠ Βικτώρια)
SUMMARY:Συζήτηση: Ο πόλεμος της Μ. Ανατολής περνάει σε Τουρκία & Ευρώπη...
URL:https://thessaloniki.kinimatorama.net/event/61191
END:VEVENT
END:VCALENDAR
