BEGIN:VCALENDAR
VERSION:2.0
PRODID:-//demosphere.net//NONSGML kigkonsult.se iCalcreator 2.22.1//
METHOD:REQUEST
X-WR-TIMEZONE:Europe/Athens
BEGIN:VEVENT
UID:https://thessaloniki.kinimatorama.net/event/6144
DTSTAMP:20101112T200000Z
DESCRIPTION:περισσότερες πληροφορίες: https://thessaloniki.kinimatorama.net
 /event/6144 
DTSTART:20101112T200000Z
DTEND:20101112T210000Z
GEO:+35.341459;+25.132416
LOCATION:Ηράκλειο\, \nΚατάληψη Ευαγγελισμού \nΘεοτοκοπούλου 18
SUMMARY:Καφενείο οικ. στήριξης στο αυτο/μενο στέκι του Πανεπιστημίου Ρεθύμν
 ου
URL:https://thessaloniki.kinimatorama.net/event/6144
END:VEVENT
END:VCALENDAR
