BEGIN:VCALENDAR
VERSION:2.0
PRODID:-//demosphere.net//NONSGML kigkonsult.se iCalcreator 2.22.1//
METHOD:REQUEST
X-WR-TIMEZONE:Europe/Athens
BEGIN:VEVENT
UID:https://thessaloniki.kinimatorama.net/event/61454
DTSTAMP:20160114T163000Z
DESCRIPTION:περισσότερες πληροφορίες: https://thessaloniki.kinimatorama.net
 /event/61454 
DTSTART:20160114T163000Z
DTEND:20160114T173000Z
GEO:+40.633903;+22.95648
LOCATION:Θεσσαλονίκη\, \nΣχολή Θετικών Επιστημών (ΣΘΕ) ΑΠΘ
SUMMARY:Ανοιχτή συνέλευση για τη διοργάνωση του 4ου Φεστιβάλ Σεξουαλικότητα
 ς
URL:https://thessaloniki.kinimatorama.net/event/61454
END:VEVENT
END:VCALENDAR
