BEGIN:VCALENDAR
VERSION:2.0
PRODID:-//demosphere.net//NONSGML kigkonsult.se iCalcreator 2.22.1//
METHOD:REQUEST
X-WR-TIMEZONE:Europe/Athens
BEGIN:VEVENT
UID:https://thessaloniki.kinimatorama.net/event/63073
DTSTAMP:20160306T150000Z
DESCRIPTION:περισσότερες πληροφορίες: https://thessaloniki.kinimatorama.net
 /event/63073 
DTSTART:20160306T150000Z
DTEND:20160306T160000Z
GEO:+37.960728;+23.75523
LOCATION:Βύρωνας\, \nΚοινωνικό Πολιτιστικό Κέντρο Βύρωνα \n'Λαμπηδόνα' \nΆλ
 σος Αγ.Τριάδας \nπρόσβαση: 11(24ωρο)\,203\,204 \nστάση ΑΓΟΡΑ ΒΥΡΩΝΑ
SUMMARY:Αποκριάτικο-βωμολοχικό-σκωπτικό Γλέντι
URL:https://thessaloniki.kinimatorama.net/event/63073
END:VEVENT
END:VCALENDAR
