BEGIN:VCALENDAR
VERSION:2.0
PRODID:-//demosphere.net//NONSGML kigkonsult.se iCalcreator 2.22.1//
METHOD:REQUEST
X-WR-TIMEZONE:Europe/Athens
BEGIN:VEVENT
UID:https://thessaloniki.kinimatorama.net/event/6431
DTSTAMP:20101211T153000Z
DESCRIPTION:περισσότερες πληροφορίες: https://thessaloniki.kinimatorama.net
 /event/6431 
DTSTART:20101211T153000Z
DTEND:20101211T163000Z
GEO:+35.341459;+25.132416
LOCATION:Ηράκλειο\, \nΚατάληψη Ευαγγελισμού \nΘεοτοκοπούλου 18
SUMMARY:Προοπτικές για τη δικτύωση των ανοιχτών εγχειρημάτων αντιπληροφόρησ
 ης
URL:https://thessaloniki.kinimatorama.net/event/6431
END:VEVENT
END:VCALENDAR
