BEGIN:VCALENDAR
VERSION:2.0
PRODID:-//demosphere.net//NONSGML kigkonsult.se iCalcreator 2.22.1//
METHOD:REQUEST
X-WR-TIMEZONE:Europe/Athens
BEGIN:VEVENT
UID:https://thessaloniki.kinimatorama.net/event/65075
DTSTAMP:20160328T083000Z
DESCRIPTION:περισσότερες πληροφορίες: https://thessaloniki.kinimatorama.net
 /event/65075 
DTSTART:20160328T083000Z
DTEND:20160328T093000Z
GEO:+40.639326;+22.932823
LOCATION:Θεσσαλονίκη\, \nΔικαστήρια Θεσσαλονίκης
SUMMARY:(Ακύρωση) Συγκέντρωση αλληλεγγύης στο χθεσινό συλληφθέντα
URL:https://thessaloniki.kinimatorama.net/event/65075
END:VEVENT
END:VCALENDAR
