BEGIN:VCALENDAR
VERSION:2.0
PRODID:-//demosphere.net//NONSGML kigkonsult.se iCalcreator 2.22.1//
METHOD:REQUEST
X-WR-TIMEZONE:Europe/Athens
BEGIN:VEVENT
UID:https://thessaloniki.kinimatorama.net/event/6539
DTSTAMP:20101203T180000Z
DESCRIPTION:περισσότερες πληροφορίες: https://thessaloniki.kinimatorama.net
 /event/6539 
DTSTART:20101203T180000Z
DTEND:20101203T190000Z
GEO:+38.00095;+23.737762
LOCATION:Αθήνα\, \nΔημοτική Αγορά Κυψέλης \nΦωκίωνος Νέγρη 42
SUMMARY:Eκδήλωση-συζήτηση-προβολή για την ψυχιατρική
URL:https://thessaloniki.kinimatorama.net/event/6539
END:VEVENT
END:VCALENDAR
