BEGIN:VCALENDAR
VERSION:2.0
PRODID:-//demosphere.net//NONSGML kigkonsult.se iCalcreator 2.22.1//
METHOD:REQUEST
X-WR-TIMEZONE:Europe/Athens
BEGIN:VEVENT
UID:https://thessaloniki.kinimatorama.net/event/65542
DTSTAMP:20160408T200000Z
DESCRIPTION:περισσότερες πληροφορίες: https://thessaloniki.kinimatorama.net
 /event/65542 
DTSTART:20160408T200000Z
DTEND:20160408T210000Z
GEO:+40.633903;+22.95648
LOCATION:Θεσσαλονίκη\, \nΣχολή Θετικών Επιστημών (ΣΘΕ) ΑΠΘ
SUMMARY:Ρεμπέτικο γλέντι για το στέκι Μπάρκο με τους Οφ αμάν!
URL:https://thessaloniki.kinimatorama.net/event/65542
END:VEVENT
END:VCALENDAR
