BEGIN:VCALENDAR
VERSION:2.0
PRODID:-//demosphere.net//NONSGML kigkonsult.se iCalcreator 2.22.1//
METHOD:REQUEST
X-WR-TIMEZONE:Europe/Athens
BEGIN:VEVENT
UID:https://thessaloniki.kinimatorama.net/event/67412
DTSTAMP:20160506T180000Z
DESCRIPTION:περισσότερες πληροφορίες: https://thessaloniki.kinimatorama.net
 /event/67412 
DTSTART:20160506T180000Z
DTEND:20160506T190000Z
GEO:+40.633903;+22.95648
LOCATION:Θεσσαλονίκη\, \nΣχολή Θετικών Επιστημών (ΣΘΕ) ΑΠΘ
SUMMARY:(αλλαγή ώρας) Εκδήλωση - συζήτηση για τις μαθητικές ομάδες
URL:https://thessaloniki.kinimatorama.net/event/67412
END:VEVENT
END:VCALENDAR
