BEGIN:VCALENDAR
VERSION:2.0
PRODID:-//demosphere.net//NONSGML kigkonsult.se iCalcreator 2.22.1//
METHOD:REQUEST
X-WR-TIMEZONE:Europe/Athens
BEGIN:VEVENT
UID:https://thessaloniki.kinimatorama.net/event/67997
DTSTAMP:20160519T170000Z
DESCRIPTION:περισσότερες πληροφορίες: https://thessaloniki.kinimatorama.net
 /event/67997 
DTSTART:20160519T170000Z
DTEND:20160519T180000Z
GEO:+37.959874;+23.719037
LOCATION:Καλλιθέα\, \nΠάντειο Πανεπιστήμιο \nΛ. Συγγρού 136
SUMMARY:Προβολή Νorth Country και mojito bar οικονομικής ενίσχυσης
URL:https://thessaloniki.kinimatorama.net/event/67997
END:VEVENT
END:VCALENDAR
