BEGIN:VCALENDAR
VERSION:2.0
PRODID:-//demosphere.net//NONSGML kigkonsult.se iCalcreator 2.22.1//
METHOD:REQUEST
X-WR-TIMEZONE:Europe/Athens
BEGIN:VEVENT
UID:https://thessaloniki.kinimatorama.net/event/68189
DTSTAMP:20160513T120000Z
DESCRIPTION:περισσότερες πληροφορίες: https://thessaloniki.kinimatorama.net
 /event/68189 
DTSTART:20160513T120000Z
DTEND:20160513T130000Z
GEO:+37.995376;+23.743086
LOCATION:Αθήνα\, \nΔικαστήρια Ευελπίδων
SUMMARY:Κάλεσμα στην Ευελπίδων
URL:https://thessaloniki.kinimatorama.net/event/68189
END:VEVENT
END:VCALENDAR
