BEGIN:VCALENDAR
VERSION:2.0
PRODID:-//demosphere.net//NONSGML kigkonsult.se iCalcreator 2.22.1//
METHOD:REQUEST
X-WR-TIMEZONE:Europe/Athens
BEGIN:VEVENT
UID:https://thessaloniki.kinimatorama.net/event/68856
DTSTAMP:20160609T060000Z
DESCRIPTION:περισσότερες πληροφορίες: https://thessaloniki.kinimatorama.net
 /event/68856 
DTSTART:20160609T060000Z
DTEND:20160609T070000Z
GEO:+40.639326;+22.932823
LOCATION:Θεσσαλονίκη\, \nΔικαστήρια Θεσσαλονίκης
SUMMARY:Συγκέντρωση αλληλεγγύης στους διωκόμενους του αγώνα ενάντια στην εξ
 όρυξη
URL:https://thessaloniki.kinimatorama.net/event/68856
END:VEVENT
END:VCALENDAR
