BEGIN:VCALENDAR
VERSION:2.0
PRODID:-//demosphere.net//NONSGML kigkonsult.se iCalcreator 2.22.1//
METHOD:REQUEST
X-WR-TIMEZONE:Europe/Athens
BEGIN:VEVENT
UID:https://thessaloniki.kinimatorama.net/event/69194
DTSTAMP:20160609T060000Z
DESCRIPTION:περισσότερες πληροφορίες: https://thessaloniki.kinimatorama.net
 /event/69194 
DTSTART:20160609T060000Z
DTEND:20160609T070000Z
GEO:+37.995376;+23.743086
LOCATION:Αθήνα\, \nΔικαστήρια Ευελπίδων
SUMMARY:Δίκη του παραλίγο φονιά της σ. Αγγελικής Κουτσουμπού
URL:https://thessaloniki.kinimatorama.net/event/69194
END:VEVENT
END:VCALENDAR
