BEGIN:VCALENDAR
VERSION:2.0
PRODID:-//demosphere.net//NONSGML kigkonsult.se iCalcreator 2.22.1//
METHOD:REQUEST
X-WR-TIMEZONE:Europe/Athens
BEGIN:VEVENT
UID:https://thessaloniki.kinimatorama.net/event/70579
DTSTAMP:20160716T180000Z
DESCRIPTION:περισσότερες πληροφορίες: https://thessaloniki.kinimatorama.net
 /event/70579 
DTSTART:20160716T180000Z
DTEND:20160716T190000Z
GEO:+37.902452;+23.746449
LOCATION:Αργυρούπολη\, \nπλατεία Λευκωσίας (Ποντίων) \n(σταθμός ΜΕΤΡΟ Αργυρ
 ούπολης)
SUMMARY:Λαϊκορεμπέτικο γλέντι
URL:https://thessaloniki.kinimatorama.net/event/70579
END:VEVENT
END:VCALENDAR
