BEGIN:VCALENDAR
VERSION:2.0
PRODID:-//demosphere.net//NONSGML kigkonsult.se iCalcreator 2.22.1//
METHOD:REQUEST
X-WR-TIMEZONE:Europe/Athens
BEGIN:VEVENT
UID:https://thessaloniki.kinimatorama.net/event/71920
DTSTAMP:20160907T180000Z
DESCRIPTION:περισσότερες πληροφορίες: https://thessaloniki.kinimatorama.net
 /event/71920 
DTSTART:20160907T180000Z
DTEND:20160907T190000Z
GEO:+37.968612;+23.746455
LOCATION:Αθήνα\, \nΆλσος Παγκρατίου \nΣπ.Μερκούρη & Ευτυχίδου \n(Τρόλεϊ 2\,
 11 - Λεωφορεία 203\,204\,204B\,211 \nστάση ΑΛΣΟΣ)
SUMMARY:Προβολή ταινίας: SOS Πεντάγωνο καλεί Μόσχα
URL:https://thessaloniki.kinimatorama.net/event/71920
END:VEVENT
END:VCALENDAR
