BEGIN:VCALENDAR
VERSION:2.0
PRODID:-//demosphere.net//NONSGML kigkonsult.se iCalcreator 2.22.1//
METHOD:REQUEST
X-WR-TIMEZONE:Europe/Athens
BEGIN:VEVENT
UID:https://thessaloniki.kinimatorama.net/event/73579
DTSTAMP:20161020T170000Z
DESCRIPTION:περισσότερες πληροφορίες: https://thessaloniki.kinimatorama.net
 /event/73579 
DTSTART:20161020T170000Z
DTEND:20161020T180000Z
GEO:+39.555039;+21.767766
LOCATION:Τρίκαλα\, \nΠλατεία Ρήγα Φεραίου
SUMMARY:Κινητοποίηση αλληλεγγύης στους πρόσφυγες
URL:https://thessaloniki.kinimatorama.net/event/73579
END:VEVENT
END:VCALENDAR
