BEGIN:VCALENDAR
VERSION:2.0
PRODID:-//demosphere.net//NONSGML kigkonsult.se iCalcreator 2.22.1//
METHOD:REQUEST
X-WR-TIMEZONE:Europe/Athens
BEGIN:VEVENT
UID:https://thessaloniki.kinimatorama.net/event/74350
DTSTAMP:20161110T080000Z
DESCRIPTION:περισσότερες πληροφορίες: https://thessaloniki.kinimatorama.net
 /event/74350 
DTSTART:20161110T080000Z
DTEND:20161110T090000Z
GEO:+40.639326;+22.932823
LOCATION:Θεσσαλονίκη\, \nΔικαστήρια Θεσσαλονίκης
SUMMARY:Κάλεσμα αλληλεγγύης για συλληφθέντες της πορείας στις Σκουριές 2012
URL:https://thessaloniki.kinimatorama.net/event/74350
END:VEVENT
END:VCALENDAR
