BEGIN:VCALENDAR
VERSION:2.0
PRODID:-//demosphere.net//NONSGML kigkonsult.se iCalcreator 2.22.1//
METHOD:REQUEST
X-WR-TIMEZONE:Europe/Athens
BEGIN:VEVENT
UID:https://thessaloniki.kinimatorama.net/event/74384
DTSTAMP:20161112T160000Z
DESCRIPTION:περισσότερες πληροφορίες: https://thessaloniki.kinimatorama.net
 /event/74384 
DTSTART:20161112T160000Z
DTEND:20161112T170000Z
GEO:+39.668311;+20.85369
LOCATION:Ιωάννινα\, \nΕλεύθερος Κοινωνικός Χώρος 'Αλιμούρα' \nΑραβαντινού 6
  \n(εντός στοάς Σκόρδου) \nείσοδος και από Τσιριγώτη 14
SUMMARY:Αγγλική Επανάσταση(1642) και Thomas Hobbes
URL:https://thessaloniki.kinimatorama.net/event/74384
END:VEVENT
END:VCALENDAR
