BEGIN:VCALENDAR
VERSION:2.0
PRODID:-//demosphere.net//NONSGML kigkonsult.se iCalcreator 2.22.1//
METHOD:REQUEST
X-WR-TIMEZONE:Europe/Athens
BEGIN:VEVENT
UID:https://thessaloniki.kinimatorama.net/event/74580
DTSTAMP:20161210T200000Z
DESCRIPTION:περισσότερες πληροφορίες: https://thessaloniki.kinimatorama.net
 /event/74580 
DTSTART:20161210T200000Z
DTEND:20161210T210000Z
GEO:+40.633903;+22.95648
LOCATION:Θεσσαλονίκη\, \nΣχολή Θετικών Επιστημών (ΣΘΕ) ΑΠΘ
SUMMARY:(αλλαγή τοποθεσίας) Ρεμπέτικο γλέντι οικ. ενίσχυσης ΑΡ.ΑΓ.Ε.-Ε.Α.Α.
 Κ.
URL:https://thessaloniki.kinimatorama.net/event/74580
END:VEVENT
END:VCALENDAR
