BEGIN:VCALENDAR
VERSION:2.0
PRODID:-//demosphere.net//NONSGML kigkonsult.se iCalcreator 2.22.1//
METHOD:REQUEST
X-WR-TIMEZONE:Europe/Athens
BEGIN:VEVENT
UID:https://thessaloniki.kinimatorama.net/event/7532
DTSTAMP:20110117T080000Z
DESCRIPTION:περισσότερες πληροφορίες: https://thessaloniki.kinimatorama.net
 /event/7532 
DTSTART:20110117T080000Z
DTEND:20110117T090000Z
GEO:+40.639326;+22.932823
LOCATION:Θεσσαλονίκη\, \nΔικαστήρια Θεσσαλονίκης
SUMMARY:Συνέχιση της δίκης των 4 των κινητοποιήσεων του 2003 
URL:https://thessaloniki.kinimatorama.net/event/7532
END:VEVENT
END:VCALENDAR
