BEGIN:VCALENDAR
VERSION:2.0
PRODID:-//demosphere.net//NONSGML kigkonsult.se iCalcreator 2.22.1//
METHOD:REQUEST
X-WR-TIMEZONE:Europe/Athens
BEGIN:VEVENT
UID:https://thessaloniki.kinimatorama.net/event/7578
DTSTAMP:20110124T070000Z
DESCRIPTION:περισσότερες πληροφορίες: https://thessaloniki.kinimatorama.net
 /event/7578 
DTSTART:20110124T070000Z
DTEND:20110124T080000Z
GEO:+40.639326;+22.932823
LOCATION:Θεσσαλονίκη\, \nΔικαστήρια Θεσσαλονίκης
SUMMARY:Συνέχιση της δίκης των 4 των κινητοποιήσεων του 2003
URL:https://thessaloniki.kinimatorama.net/event/7578
END:VEVENT
END:VCALENDAR
