BEGIN:VCALENDAR
VERSION:2.0
PRODID:-//demosphere.net//NONSGML kigkonsult.se iCalcreator 2.22.1//
METHOD:REQUEST
X-WR-TIMEZONE:Europe/Athens
BEGIN:VEVENT
UID:https://thessaloniki.kinimatorama.net/event/77425
DTSTAMP:20170112T070000Z
DESCRIPTION:περισσότερες πληροφορίες: https://thessaloniki.kinimatorama.net
 /event/77425 
DTSTART:20170112T070000Z
DTEND:20170112T080000Z
GEO:+37.995376;+23.743086
LOCATION:Αθήνα\, \nΔικαστήρια Ευελπίδων
SUMMARY:Συγκέντρωση αλληλεγγύης ενάντια στην εργοδοτική τρομοκρατία της Γεν
 ικής Ταχυδρομικής
URL:https://thessaloniki.kinimatorama.net/event/77425
END:VEVENT
END:VCALENDAR
