BEGIN:VCALENDAR
VERSION:2.0
PRODID:-//demosphere.net//NONSGML kigkonsult.se iCalcreator 2.22.1//
METHOD:REQUEST
X-WR-TIMEZONE:Europe/Athens
BEGIN:VEVENT
UID:https://thessaloniki.kinimatorama.net/event/77519
DTSTAMP:20170111T110000Z
DESCRIPTION:περισσότερες πληροφορίες: https://thessaloniki.kinimatorama.net
 /event/77519 
DTSTART:20170111T110000Z
DTEND:20170111T120000Z
GEO:+40.639326;+22.932823
LOCATION:Θεσσαλονίκη\, \nΔικαστήρια Θεσσαλονίκης
SUMMARY:Συγκέντρωση ενάντια στη δίωξη του κινήματος ενάντια στους πλειστηρι
 ασμούς
URL:https://thessaloniki.kinimatorama.net/event/77519
END:VEVENT
END:VCALENDAR
