BEGIN:VCALENDAR
VERSION:2.0
PRODID:-//demosphere.net//NONSGML kigkonsult.se iCalcreator 2.22.1//
METHOD:REQUEST
X-WR-TIMEZONE:Europe/Athens
BEGIN:VEVENT
UID:https://thessaloniki.kinimatorama.net/event/79207
DTSTAMP:20170221T130000Z
DESCRIPTION:περισσότερες πληροφορίες: https://thessaloniki.kinimatorama.net
 /event/79207 
DTSTART:20170221T130000Z
DTEND:20170221T140000Z
GEO:+37.959874;+23.719037
LOCATION:Καλλιθέα\, \nΠάντειο Πανεπιστήμιο \nΛ. Συγγρού 136
SUMMARY:Συνέλευση για τη δημιουργία αυτοοργανωμένης/αντιφασιστικής δομής
URL:https://thessaloniki.kinimatorama.net/event/79207
END:VEVENT
END:VCALENDAR
