BEGIN:VCALENDAR
VERSION:2.0
PRODID:-//demosphere.net//NONSGML kigkonsult.se iCalcreator 2.22.1//
METHOD:REQUEST
X-WR-TIMEZONE:Europe/Athens
BEGIN:VEVENT
UID:https://thessaloniki.kinimatorama.net/event/79827
DTSTAMP:20170401T190000Z
DESCRIPTION:περισσότερες πληροφορίες: https://thessaloniki.kinimatorama.net
 /event/79827 
DTSTART:20170401T190000Z
DTEND:20170401T200000Z
GEO:+40.633903;+22.95648
LOCATION:Θεσσαλονίκη\, \nΣχολή Θετικών Επιστημών (ΣΘΕ) ΑΠΘ
SUMMARY:(ακυρώνεται) Ρεμπετικο γλεντι οικ. ενισχυσης ΚΑΡΦΙ-ΕΑΑΚ
URL:https://thessaloniki.kinimatorama.net/event/79827
END:VEVENT
END:VCALENDAR
