BEGIN:VCALENDAR
VERSION:2.0
PRODID:-//demosphere.net//NONSGML kigkonsult.se iCalcreator 2.22.1//
METHOD:REQUEST
X-WR-TIMEZONE:Europe/Athens
BEGIN:VEVENT
UID:https://thessaloniki.kinimatorama.net/event/79889
DTSTAMP:20170303T080000Z
DESCRIPTION:περισσότερες πληροφορίες: https://thessaloniki.kinimatorama.net
 /event/79889 
DTSTART:20170303T080000Z
DTEND:20170303T090000Z
GEO:+40.639326;+22.932823
LOCATION:Θεσσαλονίκη\, \nΔικαστήρια Θεσσαλονίκης
SUMMARY:Συγκέντρωση αλληλεγγύης στους συλληφθέντες της διαδήλωσης στις 6/12
 /12
URL:https://thessaloniki.kinimatorama.net/event/79889
END:VEVENT
END:VCALENDAR
